BEGIN:VCALENDAR
VERSION:2.0
PRODID:-//eventon.com NONSGML v1.0//EN
CALSCALE:GREGORIAN
METHOD:PUBLISH
BEGIN:VEVENT
UID:69e74519147cf
DTSTAMP:20260421T093625Z
DTSTART:20170825T203000Z
DTEND:20170825T213000Z
LOCATION:Gaithersburg Library 18330 Montgomery Village Ave\,  Gaithersburg\,  MD 20877
SUMMARY:LEGO Crew
DESCRIPTION:Come showcase your creativity at this free drop-in LEGO® progr
 am. Come up with your own amazing creations! We supply the bricks so please
  leave yours at home. Grades K-5 (with a caregiver.) MakerSpace and STEM. S
 ponsored by: The Friends of the Library\,  Gaithersburg Chapter\nhttps://fo
 lmc.org/events/lego-crew-20/
URL:https://folmc.org/events/lego-crew-20/
END:VEVENT
END:VCALENDAR