BEGIN:VCALENDAR
VERSION:2.0
PRODID:-//eventon.com NONSGML v1.0//EN
CALSCALE:GREGORIAN
METHOD:PUBLISH
BEGIN:VEVENT
UID:69e7325c7043d
DTSTAMP:20260421T081628Z
DTSTART:20170721T190000Z
DTEND:20170721T200000Z
LOCATION:Twinbrook Library 202 Meadow Hall Drive
SUMMARY:Twinbrook LEGO Derby
DESCRIPTION:Do you love LEGOs? do you love competition? Do you love Science
 \,  Engineering\,  and Math? Test your skills against the Twinbrook Lego De
 rby Track! Build your best LEGO racer and see if you can best the competiti
 on with your superior knowledge of physics and your engineering acumen! We&
 #8217;ll provide a[..]\nhttps://folmc.org/events/twinbrook-lego-derby/
URL:https://folmc.org/events/twinbrook-lego-derby/
END:VEVENT
END:VCALENDAR