BEGIN:VCALENDAR
VERSION:2.0
PRODID:-//eventon.com NONSGML v1.0//EN
CALSCALE:GREGORIAN
METHOD:PUBLISH
BEGIN:VEVENT
UID:69e731e6a9797
DTSTAMP:20260421T081430Z
DTSTART:20170503T223000Z
DTEND:20170504T000000Z
LOCATION:
SUMMARY:Executive Committee
DESCRIPTION:Executive Committee\nhttps://folmc.org/events/executive-committ
 ee-4/
URL:https://folmc.org/events/executive-committee-4/
END:VEVENT
END:VCALENDAR