BEGIN:VCALENDAR
VERSION:2.0
PRODID:-//eventon.com NONSGML v1.0//EN
CALSCALE:GREGORIAN
METHOD:PUBLISH
BEGIN:VEVENT
UID:69e85341e459b
DTSTAMP:20260422T044905Z
DTSTART:20150812T180000Z
DTEND:20150812T190000Z
LOCATION:Germantown Library 19840 Century Blvd\,  Germantown\,  MD 20874
SUMMARY:Hands-On STEM Fun
DESCRIPTION:Learn and play with drop-in science based crafts.\nhttps://folm
 c.org/events/hands-on-stem-fun-5/
URL:https://folmc.org/events/hands-on-stem-fun-5/
END:VEVENT
END:VCALENDAR