BEGIN:VCALENDAR
VERSION:2.0
PRODID:-//eventon.com NONSGML v1.0//EN
CALSCALE:GREGORIAN
METHOD:PUBLISH
BEGIN:VEVENT
UID:69e8a74aeaae4
DTSTAMP:20260422T104738Z
DTSTART:20170112T000000Z
DTEND:20170112T013000Z
LOCATION:
SUMMARY:Joint Meeting Session 2
DESCRIPTION:Joint Meeting Session 2\nhttps://folmc.org/events/joint-meeting
 -session-2/
URL:https://folmc.org/events/joint-meeting-session-2/
END:VEVENT
END:VCALENDAR