BEGIN:VCALENDAR
VERSION:2.0
PRODID:-//eventon.com NONSGML v1.0//EN
CALSCALE:GREGORIAN
METHOD:PUBLISH
BEGIN:VEVENT
UID:69e7455b528e6
DTSTAMP:20260421T093731Z
DTSTART:20161230T153000Z
DTEND:20161230T163000Z
LOCATION:Damascus Library 9701 Main St.\,  Damascus\,  MD\,  20872
SUMMARY:Do You Wanna Build A Snow Globe?
DESCRIPTION:Ages 3-12\,  online pre-registration required. Each child desig
 ns\,  makes and takes home their own snow globe\,  using a jar\,  glitter a
 nd an assortment of miniatures (provided). Sponsored by Friends of the Libr
 ary\,  Damascus Chapter. Sparkle Days Winter Break 2016. Register here.\nht
 tps://folmc.org/events/do-you-wanna-build-a-snow-globe/
URL:https://folmc.org/events/do-you-wanna-build-a-snow-globe/
END:VEVENT
END:VCALENDAR