BEGIN:VCALENDAR
VERSION:2.0
PRODID:-//eventon.com NONSGML v1.0//EN
CALSCALE:GREGORIAN
METHOD:PUBLISH
BEGIN:VEVENT
UID:69e76b7e7481f
DTSTAMP:20260421T122014Z
DTSTART:20161228T160000Z
DTEND:20161228T170000Z
LOCATION:Germantown Library 19840 Century Blvd\,  Germantown\,  MD 20874
SUMMARY:FutureMakers: Electric Art Lab
DESCRIPTION:Use motors\,  LED’s\,  batteries and simple circuitry to inve
 nt an artwork that moves and comes alive! All projects go home! For ages 8 
 &amp; up with an adult caregiver. Space is limited. Registration required. 
 Sponsored by the Friends of the Library\,  Germantown Chapter. &nbsp; Regis
 ter here.\nhttps://folmc.org/events/futuremakers-electric-art-lab/
URL:https://folmc.org/events/futuremakers-electric-art-lab/
END:VEVENT
END:VCALENDAR