BEGIN:VCALENDAR
VERSION:2.0
PRODID:-//eventon.com NONSGML v1.0//EN
CALSCALE:GREGORIAN
METHOD:PUBLISH
BEGIN:VEVENT
UID:69e744f05740c
DTSTAMP:20260421T093544Z
DTSTART:20161115T210000Z
DTEND:20161115T220000Z
LOCATION:Connie Morella Library 7400 Arlington Rd\,  Bethesda\,  MD 20814
SUMMARY:Build and Learn with Lego
DESCRIPTION:Drop in for a session of imaginative construction with Lego (6-
 10). We supply the blocks\,  so please leave yours at home. Your creations 
 must be left at the library\,  but may be photographed before deconstructio
 n. All children must be accompanied by an adult at all times. Sponsored byÂ
  Friends of the[..]\nhttps://folmc.org/events/build-and-learn-with-lego-18/
URL:https://folmc.org/events/build-and-learn-with-lego-18/
END:VEVENT
END:VCALENDAR