BEGIN:VCALENDAR
VERSION:2.0
PRODID:-//eventon.com NONSGML v1.0//EN
CALSCALE:GREGORIAN
METHOD:PUBLISH
BEGIN:VEVENT
UID:69e7455c89006
DTSTAMP:20260421T093732Z
DTSTART:20161013T143000Z
DTEND:20161013T153000Z
LOCATION:Chevy Chase Library 8005 Connecticut Ave\,  Chevy Chase\,  MD 20815
SUMMARY:Stem Open Play
DESCRIPTION:Come to the Chevy Chase Library on Thursday mornings from 10:30
  -11:30 am to have fun with Duplos\,  blocks\,  matching and sorting games 
 and other STEM/STEAM activities. Preschool age. No registration needed. Spo
 nsored by Friends of the Library\,  Chevy Chase Chapter.\nhttps://folmc.or
 g/events/stem-open-play-33/
URL:https://folmc.org/events/stem-open-play-33/
END:VEVENT
END:VCALENDAR