BEGIN:VCALENDAR
VERSION:2.0
PRODID:-//eventon.com NONSGML v1.0//EN
CALSCALE:GREGORIAN
METHOD:PUBLISH
BEGIN:VEVENT
UID:69ea2a8f2aac4
DTSTAMP:20260423T141959Z
DTSTART:20160705
DTEND:20160706
LOCATION:Davis Library 6400 Democracy Blvd\,  Bethesda\,  MD 20817
SUMMARY:Storywalk
DESCRIPTION:Step outside and enjoy Davis Library&#8217;s new Storywalk. Get
  some fresh air and start reading by our Democracy entrance. Storywalk will
  be up through July 16th when we close for remodeling. The StoryWalk™ Pro
 ject was created by Anne Ferguson of Montpelier\,  VT and developed in coll
 aboration with the Vermont Bicycle[..]\nhttps://folmc.org/events/storywalk/
URL:https://folmc.org/events/storywalk/
END:VEVENT
END:VCALENDAR