BEGIN:VCALENDAR
VERSION:2.0
PRODID:-//eventon.com NONSGML v1.0//EN
CALSCALE:GREGORIAN
METHOD:PUBLISH
BEGIN:VEVENT
UID:69e7336f3bd32
DTSTAMP:20260421T082103Z
DTSTART:20161018T230000Z
DTEND:20161019T003000Z
LOCATION:Connie Morella Library 7400 Arlington Rd\,  Bethesda\,  MD 20814
SUMMARY:spacer Classics in Context Book Discussion - Families: Monstrous and Demonstrative
DESCRIPTION:Join Michael Bevel for a lively discussion ofÂ The Fifth QueenÂ
  by Ford Maddox Ford. This book discussion is part of the Classics in Conte
 xt series. SponsoredÂ by the Friends of the Library Bethesda\,  Chapter.\nh
 ttps://folmc.org/events/spacer-classics-in-context-book-discussion-families
 -monstrous-and-demonstrative-2/
URL:https://folmc.org/events/spacer-classics-in-context-book-discussion-families-monstrous-and-demonstrative-2/
END:VEVENT
END:VCALENDAR