BEGIN:VCALENDAR
VERSION:2.0
PRODID:-//eventon.com NONSGML v1.0//EN
CALSCALE:GREGORIAN
METHOD:PUBLISH
BEGIN:VEVENT
UID:69e4f8ae0311d
DTSTAMP:20260419T154550Z
DTSTART:20160708T150000Z
DTEND:20160708T154500Z
LOCATION:Connie Morella Library 7400 Arlington Rd\,  Bethesda\,  MD 20814
SUMMARY:Mark Jaster Presents Piccolo's Trunk
DESCRIPTION:A wordless clownish character enchants with illusions and humor
 ous surprises by engaging students with skillful movement\,  live music and
  audience participation in this popular introduction to the art of mime. Fo
 r children of all ages. Free tickets will be distributed 30 minutes prior t
 o the program. Space is limited. &nbsp;[..]\nhttps://folmc.org/events/mark-
 jaster-presents-piccolos-trunk/
URL:https://folmc.org/events/mark-jaster-presents-piccolos-trunk/
END:VEVENT
END:VCALENDAR