BEGIN:VCALENDAR
VERSION:2.0
PRODID:-//eventon.com NONSGML v1.0//EN
CALSCALE:GREGORIAN
METHOD:PUBLISH
BEGIN:VEVENT
UID:69e731f6cfc26
DTSTAMP:20260421T081446Z
DTSTART:20160315T230000Z
DTEND:20160316T003000Z
LOCATION:Connie Morella Library 7400 Arlington Rd\,  Bethesda\,  MD 20814
SUMMARY:Classics in Context Book Discussion
DESCRIPTION:Join Michael Bevel for a lively discussion of The Home and the 
 World by Rabindranath Tagore. This book discussion is part of the Classics 
 in Context series. Sponsored by Friends of the Library\,  Bethesda Chapter.
 \nhttps://folmc.org/events/classics-in-context-book-discussion-5/
URL:https://folmc.org/events/classics-in-context-book-discussion-5/
END:VEVENT
END:VCALENDAR