BEGIN:VCALENDAR
VERSION:2.0
PRODID:-//eventon.com NONSGML v1.0//EN
CALSCALE:GREGORIAN
METHOD:PUBLISH
BEGIN:VEVENT
UID:69e7a670bbee3
DTSTAMP:20260421T163144Z
DTSTART:20190209T150000Z
DTEND:20190209T180000Z
LOCATION:Potomac Library 10101 Glenolden Dr\,  Potomac\,  MD 20854
SUMMARY:Potomac Friends of the Library Book Sale
DESCRIPTION:Join us for our monthly Potomac Friends of the Library Book Sal
 e! Books\,  DVDs\,  and more available for children\,  teens\,  and adults.
  All are welcome. Sponsored by Friends of the Library\,  Potomac Chapter\nh
 ttps://folmc.org/events/potomac-booksale/
URL:https://folmc.org/events/potomac-booksale/
END:VEVENT
END:VCALENDAR