BEGIN:VCALENDAR
VERSION:2.0
PRODID:-//eventon.com NONSGML v1.0//EN
CALSCALE:GREGORIAN
METHOD:PUBLISH
BEGIN:VEVENT
UID:69e744f104afc
DTSTAMP:20260421T093545Z
DTSTART:20151121T160000Z
DTEND:20151121T210000Z
LOCATION:Damascus Library 9701 Main St.\,  Damascus\,  MD\,  20872
SUMMARY:International Games Day @ Your Library
DESCRIPTION:Drop in between 11-4 to play a variety of board games with your
  family and friends\,  or come make new friends to play with. All Ages. Spo
 nsored by Friends of the Library\,  Damascus Chapter.\nhttps://folmc.org/ev
 ents/international-games-day-your-library/
URL:https://folmc.org/events/international-games-day-your-library/
END:VEVENT
END:VCALENDAR