BEGIN:VCALENDAR
VERSION:2.0
PRODID:-//eventon.com NONSGML v1.0//EN
CALSCALE:GREGORIAN
METHOD:PUBLISH
BEGIN:VEVENT
UID:69e4d43979424
DTSTAMP:20260419T131017Z
DTSTART:20260311T221500Z
DTEND:20260311T234500Z
LOCATION:Potomac Library 10101 Glenolden Dr\,  Potomac\,  MD 20854
SUMMARY:Potomac Teen Advisory Board (TAB)
DESCRIPTION:Sponsored by&nbsp;Friends of the Library Montgomery County. •
  Shape Teen Programming • Gain Leadership Experience as an officer of TAB
  • Receive Service-Learning Hours (1 per hour of activity) • Gain criti
 cal analysis skills • Pizza and beverages Join us for our Teen Advisory B
 oard Night! Are you interested in[..]\nhttps://folmc.org/events/potomac-tee
 n-advisory-board-tab-6/
URL:https://folmc.org/events/potomac-teen-advisory-board-tab-6/
END:VEVENT
END:VCALENDAR