BEGIN:VCALENDAR
VERSION:2.0
PRODID:-//eventon.com NONSGML v1.0//EN
CALSCALE:GREGORIAN
METHOD:PUBLISH
BEGIN:VEVENT
UID:69e74571347c7
DTSTAMP:20260421T093753Z
DTSTART:20251214T030000Z
DTEND:20251213T180000Z
LOCATION:Germantown Library 19840 Century Blvd\,  Germantown\,  MD 20874
SUMMARY:Friends of the Library Book Sale @ Germantown Library
DESCRIPTION:This is sponsored by the Friends of the Library. Join us for ou
 r monthly Friends of the Library Branch Booksale! Books\,  DVDs\,  and more
  available for children\,  teens\,  and adults. Hardbacks $1:00\,  paperbac
 ks 50 cents (children&#8217;s 1/2 price)\,  with some items priced higher. 
 All are welcome. This program takes place[..]\nhttps://folmc.org/events/fri
 ends-of-the-library-book-sale-germantown-library-4/
URL:https://folmc.org/events/friends-of-the-library-book-sale-germantown-library-4/
END:VEVENT
END:VCALENDAR