BEGIN:VCALENDAR
VERSION:2.0
PRODID:-//eventon.com NONSGML v1.0//EN
CALSCALE:GREGORIAN
METHOD:PUBLISH
BEGIN:VEVENT
UID:69e7328a2a7bf
DTSTAMP:20260421T081714Z
DTSTART:20251209T220000Z
DTEND:20251209T230000Z
LOCATION:Gaithersburg Library 18330 Montgomery Village Ave\,  Gaithersburg\,  MD 20877
SUMMARY:Teen Anime Club
DESCRIPTION:This program is co-sponsored by&nbsp;Friends of the Library\,  
 Montgomery County\,  Inc. Share your love of anime and manga with like mind
 ed teens. Watch anime\,  craft\,  and discuss your favorites. Teens can joi
 n us every Tuesday for our anime club! We will meet in the Teen Room to wat
 ch anime\,  do[..]\nhttps://folmc.org/events/teen-anime-club-5/
URL:https://folmc.org/events/teen-anime-club-5/
END:VEVENT
END:VCALENDAR