BEGIN:VCALENDAR
VERSION:2.0
PRODID:-//eventon.com NONSGML v1.0//EN
CALSCALE:GREGORIAN
METHOD:PUBLISH
BEGIN:VEVENT
UID:69e4bf8dd1be7
DTSTAMP:20260419T114205Z
DTSTART:20250412T170000Z
DTEND:20250412T180000Z
LOCATION:Gaithersburg Library 18330 Montgomery Village Ave\,  Gaithersburg\,  MD 20877
SUMMARY:All About Teeth!
DESCRIPTION:This program is co-sponsored by the Friends of the Library\,  
 Montgomery County\,  Inc. Join us as we learn about what our teeth are made
  of\,  why we lose them and how to take care of them during this fun intera
 ctive\,  hands-on program! For Grades Preschool to 5th.&nbsp;Parents/caregi
 vers MUST accompany children under[..]\nhttps://folmc.org/events/all-about-
 teeth/
URL:https://folmc.org/events/all-about-teeth/
END:VEVENT
END:VCALENDAR