BEGIN:VCALENDAR
VERSION:2.0
PRODID:-//eventon.com NONSGML v1.0//EN
CALSCALE:GREGORIAN
METHOD:PUBLISH
BEGIN:VEVENT
UID:69e7318653228
DTSTAMP:20260421T081254Z
DTSTART:20241218T233000Z
DTEND:20241219T003000Z
LOCATION:Gaithersburg Library 18330 Montgomery Village Ave\,  Gaithersburg\,  MD 20877
SUMMARY:Tween Book Club: Roller Girl
DESCRIPTION:Explore different genres of tween literature each month with ga
 mes\,  activities and book discussions. This month we&#8217;re talking abou
 t Roller Girl by Victoria Jamieson; followed by an activity related to th
 e book. Pick up a copy of the book at the Circulation Desk beginning Novemb
 er 21st. For Grades 4-6. Questions about this[..]\nhttps://folmc.org/events
 /tween-book-club-roller-girl/
URL:https://folmc.org/events/tween-book-club-roller-girl/
END:VEVENT
END:VCALENDAR