BEGIN:VCALENDAR
VERSION:2.0
PRODID:-//eventon.com NONSGML v1.0//EN
CALSCALE:GREGORIAN
METHOD:PUBLISH
BEGIN:VEVENT
UID:69e701574e21d
DTSTAMP:20260421T044719Z
DTSTART:20241010T203000Z
DTEND:20241010T213000Z
LOCATION:Gaithersburg Library 18330 Montgomery Village Ave\,  Gaithersburg\,  MD 20877
SUMMARY:Art at the Library: El Anatsui
DESCRIPTION:Explore your creative side &amp; create a masterpiece! Join us 
 as we learn about Ghanaian sculptor El Anatsui\,  who combines found mater
 ials to create large installation pieces that based on themes such as West 
 African fabrics! Then we&#8217;ll create our own work of art inspired by hi
 s sculptures! For Grades Kindergarten-5th. Parents/caregivers[..]\nhttps:/
 /folmc.org/events/art-at-the-library-el-anatsui/
URL:https://folmc.org/events/art-at-the-library-el-anatsui/
END:VEVENT
END:VCALENDAR