BEGIN:VCALENDAR
VERSION:2.0
PRODID:-//eventon.com NONSGML v1.0//EN
CALSCALE:GREGORIAN
METHOD:PUBLISH
BEGIN:VEVENT
UID:69e7457212adf
DTSTAMP:20260421T093754Z
DTSTART:20240808T190000Z
DTEND:20240808T200000Z
LOCATION:Wheaton Library 11701 Georgia Ave\,  Silver Spring\,  MD 20902
SUMMARY:Reptile smiles
DESCRIPTION:Reptile Smiles introduces and educates about a variety of exoti
 c animals\,  allowing participants opportunities to pet and interact safely
 . With a focus on engaging education\,  Reptile Smiles creates an exciting 
 adventure for people of all ages to learn and interact with exotic animals!
   This program will take place in the[..]\nhttps://folmc.org/events/reptil
 e-smiles-4/
URL:https://folmc.org/events/reptile-smiles-4/
END:VEVENT
END:VCALENDAR