BEGIN:VCALENDAR
VERSION:2.0
PRODID:-//eventon.com NONSGML v1.0//EN
CALSCALE:GREGORIAN
METHOD:PUBLISH
BEGIN:VEVENT
UID:69e7af181bd69
DTSTAMP:20260421T170840Z
DTSTART:20240724T223000Z
DTEND:20240724T233000Z
LOCATION:Olney Library 3500 Olney Laytonsville Rd Olney\,  MD 20832
SUMMARY:Nail Art Nights - In-person
DESCRIPTION:Teens and tweens\,  come explore the glam and glitzy art of the
  manicure! Have fun\,  get inspired\,  and create fabulous nails. This is a
  DIY program\,  all materials are provided. Program takes place on Wednesd
 ay\,  June 26; Wednesday\,  July 24; and Wednesday\,  August 28. Time is 
 6:30 to 7:30 pm. Location will be[..]\nhttps://folmc.org/events/nail-art-ni
 ghts-in-person-5/
URL:https://folmc.org/events/nail-art-nights-in-person-5/
END:VEVENT
END:VCALENDAR