BEGIN:VCALENDAR
VERSION:2.0
PRODID:-//eventon.com NONSGML v1.0//EN
CALSCALE:GREGORIAN
METHOD:PUBLISH
BEGIN:VEVENT
UID:69e745cfc5429
DTSTAMP:20260421T093927Z
DTSTART:20240518T150000Z
DTEND:20240518T153000Z
LOCATION:Noyes Library for Young Children 10237 Carroll Pl Kensington\,  MD 20895
SUMMARY:Superb Saturday STEM - Spring Flower Pot
DESCRIPTION:Join us at the Noyes Library for some fun experimentation! Join
  Mr. Sean in painting flower pots for spring! Included will be a packet of 
 native wildflower seeds. All materials provided. Sponsored by Friends of th
 e Library\,  Montgomery County.\nhttps://folmc.org/events/superb-saturday-s
 tem-spring-flower-pot/
URL:https://folmc.org/events/superb-saturday-stem-spring-flower-pot/
END:VEVENT
END:VCALENDAR