BEGIN:VCALENDAR
VERSION:2.0
PRODID:-//eventon.com NONSGML v1.0//EN
CALSCALE:GREGORIAN
METHOD:PUBLISH
BEGIN:VEVENT
UID:69e745ec2a1e2
DTSTAMP:20260421T093956Z
DTSTART:20240418T203000Z
DTEND:20240418T213000Z
LOCATION:Gaithersburg Library 18330 Montgomery Village Ave\,  Gaithersburg\,  MD 20877
SUMMARY:Magic Tree House Book Club: Midnight on the Moon
DESCRIPTION:Read a different Magic Tree House book each month then join us 
 for games\,  activities and book discussions. This month we&#8217;re talkin
 g about Midnight on the Moon; followed by an activity related to the book.
  Pick up a copy of the book at the Information Desk beginning March 21st. C
 an&#8217;t finish[..]\nhttps://folmc.org/events/magic-tree-house-book-club-
 midnight-on-the-moon/
URL:https://folmc.org/events/magic-tree-house-book-club-midnight-on-the-moon/
END:VEVENT
END:VCALENDAR