BEGIN:VCALENDAR
VERSION:2.0
PRODID:-//eventon.com NONSGML v1.0//EN
CALSCALE:GREGORIAN
METHOD:PUBLISH
BEGIN:VEVENT
UID:69e74617d6952
DTSTAMP:20260421T094039Z
DTSTART:20240320T223000Z
DTEND:20240320T233000Z
LOCATION:Gaithersburg Library 18330 Montgomery Village Ave\,  Gaithersburg\,  MD 20877
SUMMARY:Tween Book Club: Shinji Takahashi and the Mark of the Coatl
DESCRIPTION:Explore different genres of tween literature each month with ga
 mes\,  activities and book discussions. This month we&#8217;re talking abou
 t Shinji Takahashi and the Mark of the Coatl by Julie Kagawa; followed by
  an activity related to the book. Pick up a copy of the book at the Circula
 tion Desk beginning February 21st.[..]\nhttps://folmc.org/events/tween-book
 -club-shinji-takahashi-and-the-mark-of-the-coatl/
URL:https://folmc.org/events/tween-book-club-shinji-takahashi-and-the-mark-of-the-coatl/
END:VEVENT
END:VCALENDAR