BEGIN:VCALENDAR
VERSION:2.0
PRODID:-//eventon.com NONSGML v1.0//EN
CALSCALE:GREGORIAN
METHOD:PUBLISH
BEGIN:VEVENT
UID:69e731b2051d2
DTSTAMP:20260421T081338Z
DTSTART:20240106T190000Z
DTEND:20240106T210000Z
LOCATION:Gaithersburg Library 18330 Montgomery Village Ave\,  Gaithersburg\,  MD 20877
SUMMARY:LEGO® Afternoon
DESCRIPTION:Come by anytime between 2-4 p.m. for some LEGO® building fun.
  We&#8217;ll supply the LEGO®s and you supply the imagination! We have bot
 h regular LEGO®s and larger Duplo LEGO®s! Sponsored by Friends of the Lib
 rary\,  Montgomery County. For Preschool to 6th Grade. Parents/caregivers M
 UST accompany children under the age of 12[..]\nhttps://folmc.org/events/le
 go-afternoon-17/
URL:https://folmc.org/events/lego-afternoon-17/
END:VEVENT
END:VCALENDAR