BEGIN:VCALENDAR
VERSION:2.0
PRODID:-//eventon.com NONSGML v1.0//EN
CALSCALE:GREGORIAN
METHOD:PUBLISH
BEGIN:VEVENT
UID:69e7323176af2
DTSTAMP:20260421T081545Z
DTSTART:20230728T150000Z
DTEND:20230728T154500Z
LOCATION:Brigadier General Charles E. McGee Library
SUMMARY:Rhythmaya Dance
DESCRIPTION:Through Indian music and dance\,  Rhythmaya shows us that diver
 sity and mutual respect are key to coming together as a community. Sponsore
 d by Friends of the Library\,  Montgomery County. ** Note- free tickets wil
 l be available at the 3rd floor customer service desk the day of the progra
 m. Space is[..]\nhttps://folmc.org/events/rhythmaya-dance/
URL:https://folmc.org/events/rhythmaya-dance/
END:VEVENT
END:VCALENDAR