BEGIN:VCALENDAR
VERSION:2.0
PRODID:-//eventon.com NONSGML v1.0//EN
CALSCALE:GREGORIAN
METHOD:PUBLISH
BEGIN:VEVENT
UID:69e74598edcd0
DTSTAMP:20260421T093832Z
DTSTART:20230616T190000Z
DTEND:20230616T200000Z
LOCATION:Long Branch Library 8800 Garland Ave\,  Silver Spring\,  MD 20901
SUMMARY:Make a Juneteenth Flag!
DESCRIPTION:We&#8217;ll supply all you need to make a flag to celebrate Jun
 eteenth. Get ready for your Juneteenth National Independence Day celebratio
 n. We&#8217;ll paint popsicle sticks in the traditional red\,  green\,  and
  black colors and then glue them together to make a flag. Sponsored by Frie
 nds of the Library\,  Montgomery County.[..]\nhttps://folmc.org/events/make
 -a-juneteenth-flag/
URL:https://folmc.org/events/make-a-juneteenth-flag/
END:VEVENT
END:VCALENDAR