BEGIN:VCALENDAR
VERSION:2.0
PRODID:-//eventon.com NONSGML v1.0//EN
CALSCALE:GREGORIAN
METHOD:PUBLISH
BEGIN:VEVENT
UID:69ed7e5c67498
DTSTAMP:20260426T025420Z
DTSTART:20230308T170000Z
DTEND:20230308T180000Z
LOCATION:Zoom
SUMMARY:Gentle Hatha Yoga
DESCRIPTION:Gentle Hatha Yoga is perfect for those who are just starting ou
 t with yoga\,  are less mobile\,  or simply want a more relaxed yoga experi
 ence. Sponsored by Friends of the Library\,  Montgomery County. NEW: You w
 ill need to be signed into Zoom to attend this program via the web. To sign
 [..]\nhttps://folmc.org/events/gentle-hatha-yoga-31/
URL:https://folmc.org/events/gentle-hatha-yoga-31/
END:VEVENT
END:VCALENDAR