BEGIN:VCALENDAR
VERSION:2.0
PRODID:-//eventon.com NONSGML v1.0//EN
CALSCALE:GREGORIAN
METHOD:PUBLISH
BEGIN:VEVENT
UID:69e732c21df5e
DTSTAMP:20260421T081810Z
DTSTART:20221210T150000Z
DTEND:20221210T180000Z
LOCATION:Germantown Library 19840 Century Blvd\,  Germantown\,  MD 20874
SUMMARY:Book Sale
DESCRIPTION:Book sales are back at the Germantown Library! Please come out 
 to support Friends of the Library and shop the book sale. If you would like
  to volunteer for this event or for the ongoing honor book sales\,  please 
 contact volunteers@folmc.org.\nhttps://folmc.org/events/book-sale-43/
URL:https://folmc.org/events/book-sale-43/
END:VEVENT
END:VCALENDAR