BEGIN:VCALENDAR
VERSION:2.0
PRODID:-//eventon.com NONSGML v1.0//EN
CALSCALE:GREGORIAN
METHOD:PUBLISH
BEGIN:VEVENT
UID:69e745916361f
DTSTAMP:20260421T093825Z
DTSTART:20221103T143000Z
DTEND:20221103T151500Z
LOCATION:Rockville Memorial Library 21 Maryland Avenue\,  Rockville\,  MD 20850
SUMMARY:Songs & Silliness with Mr. Jon (In-Person)
DESCRIPTION:Mr. Jon and his friend George the monkey provide an energetic f
 amily program with music that is all about fun\,  movement\,  and laughter.
  Sponsored by Friends of the Library\,  Montgomery County. &nbsp; Mr. Jon a
 nd his friend George the monkey provide an energetic family program with mu
 sic that is all[..]\nhttps://folmc.org/events/songs-silliness-with-mr-jon-i
 n-person/
URL:https://folmc.org/events/songs-silliness-with-mr-jon-in-person/
END:VEVENT
END:VCALENDAR