BEGIN:VCALENDAR
VERSION:2.0
PRODID:-//eventon.com NONSGML v1.0//EN
CALSCALE:GREGORIAN
METHOD:PUBLISH
BEGIN:VEVENT
UID:69eb7390a0403
DTSTAMP:20260424T134344Z
DTSTART:20220521T180000Z
DTEND:20220521T190000Z
LOCATION:
SUMMARY:Baba C: The international Storyteller
DESCRIPTION:The Honorable Baba C will perform the art of Storytelling at th
 e Brigadier General Charles E. McGee Library for children of all ages. He w
 ill mesmerize the audience with tales old and new! Baba-C provides educatio
 nal &amp; empowerment programs via the Cultural Arts to educate\,  inspire 
 &amp; entertain children/adults of[..]\nhttps://folmc.org/events/baba-c-the
 -international-storyteller/
URL:https://folmc.org/events/baba-c-the-international-storyteller/
END:VEVENT
END:VCALENDAR