BEGIN:VCALENDAR
VERSION:2.0
PRODID:-//eventon.com NONSGML v1.0//EN
CALSCALE:GREGORIAN
METHOD:PUBLISH
BEGIN:VEVENT
UID:69ec023120a64
DTSTAMP:20260424T235217Z
DTSTART:20220302T170000Z
DTEND:20220302T180000Z
LOCATION:Zoom
SUMMARY:Gentle Hatha Yoga at Noon- Virtual
DESCRIPTION:Gentle Hatha Yoga is perfect for those who are just starting ou
 t with yoga\,  are less mobile\,  or simply want a more relaxed yoga experi
 ence. Sponsored by Friends of the Library\,  Chevy Chase Chapter. NEW: You
  will need to be signed into Zoom to attend this program via the web. To[..
 ]\nhttps://folmc.org/events/gentle-hatha-yoga-at-noon-virtual-13/
URL:https://folmc.org/events/gentle-hatha-yoga-at-noon-virtual-13/
END:VEVENT
END:VCALENDAR