BEGIN:VCALENDAR
VERSION:2.0
PRODID:-//eventon.com NONSGML v1.0//EN
CALSCALE:GREGORIAN
METHOD:PUBLISH
BEGIN:VEVENT
UID:69e5ec99656f4
DTSTAMP:20260420T090633Z
DTSTART:20191027T180000Z
DTEND:20191027T193000Z
LOCATION:Rockville Memorial Library 21 Maryland Avenue\,  Rockville\,  MD 20850
SUMMARY:Author Talk: Garrett Peck
DESCRIPTION:Author Garrett Peck to talk about his latest book\,  The Great 
 War in America: World War I and Its Aftermath. Peck is a Washington-area hi
 storian\,  tour guide\,  and author of seven books. This presentation will 
 be very informative\,  and Peck tells about WWI in a very interesting manne
 r. The book[..]\nhttps://folmc.org/events/author-talk-garrett-peck-2/
URL:https://folmc.org/events/author-talk-garrett-peck-2/
END:VEVENT
END:VCALENDAR