BEGIN:VCALENDAR
VERSION:2.0
PRODID:-//eventon.com NONSGML v1.0//EN
CALSCALE:GREGORIAN
METHOD:PUBLISH
BEGIN:VEVENT
UID:69e745708f348
DTSTAMP:20260421T093752Z
DTSTART:20191116T180000Z
DTEND:20191117T045000Z
LOCATION:Potomac Library 10101 Glenolden Dr\,  Potomac\,  MD 20854
SUMMARY:Author Visit: Julie Langsdorf
DESCRIPTION:Local author Julie Langsdorf will visit the Potomac branch to 
 discuss  her satirical debut novel &#8220;White Elephant.&#8221; Novel is 
 about a behemoth of a new house in a DC suburb like ours. Sponsored by the 
 Friends of the Library\,  Potomac Chapter.\nhttps://folmc.org/events/author
 -visit-julie-langsdorf/
URL:https://folmc.org/events/author-visit-julie-langsdorf/
END:VEVENT
END:VCALENDAR