BEGIN:VCALENDAR
VERSION:2.0
PRODID:-//eventon.com NONSGML v1.0//EN
CALSCALE:GREGORIAN
METHOD:PUBLISH
BEGIN:VEVENT
UID:69ebf19d7191f
DTSTAMP:20260424T224133Z
DTSTART:20190921T163000Z
DTEND:20190921T184500Z
LOCATION:Potomac Library 10101 Glenolden Dr\,  Potomac\,  MD 20854
SUMMARY:Author Visit: Lynne Olson
DESCRIPTION:Bestselling author Lynne Olson will visit the branch to discuss
  her new book Madame Fourcade’s Secret War: The Daring Young Woman Who Le
 d France&#8217;s Largest Spy Network Against Hitler. New Time: 12:30PM Spon
 sored by the Friends of the Library\,  Potomac Chapter.\nhttps://folmc.org/
 events/spacer-author-visit-lynne-olson/
URL:https://folmc.org/events/spacer-author-visit-lynne-olson/
END:VEVENT
END:VCALENDAR