BEGIN:VCALENDAR
VERSION:2.0
PRODID:-//eventon.com NONSGML v1.0//EN
CALSCALE:GREGORIAN
METHOD:PUBLISH
BEGIN:VEVENT
UID:69e86b067988b
DTSTAMP:20260422T063030Z
DTSTART:20190323T170000Z
DTEND:20190323T180000Z
LOCATION:Chevy Chase Library 8005 Connecticut Ave\,  Chevy Chase\,  MD 20815
SUMMARY:Irish for a Day Celebration w/ Siobhán O'Brien
DESCRIPTION:Hailing from Limerick\,  Ireland\,  Siobhán O&#8217;Brien will
  perform Irish music with guitar and harmonica and voice in the lobby of th
 e Chevy Chase Library in honor of Irish Heritage Month. Sponsored by Friend
 s of the Library\,  Chevy Chase Chapter.\nhttps://folmc.org/events/irish-fo
 r-a-day-celebration-w-siobhan-obrien/
URL:https://folmc.org/events/irish-for-a-day-celebration-w-siobhan-obrien/
END:VEVENT
END:VCALENDAR