BEGIN:VCALENDAR
VERSION:2.0
PRODID:-//eventon.com NONSGML v1.0//EN
CALSCALE:GREGORIAN
METHOD:PUBLISH
BEGIN:VEVENT
UID:69e745eade0ac
DTSTAMP:20260421T093954Z
DTSTART:20190330T143000Z
DTEND:20190331T035000Z
LOCATION:Potomac Library 10101 Glenolden Dr\,  Potomac\,  MD 20854
SUMMARY:Celebrate Paddington!
DESCRIPTION: Paddington turned 60 years old in October 2018. As we watch a
  film in his honor\,  we will have other activities such as coloring and a 
 Paddington puzzle. Popcorn will be provided! All ages are invited to attend
 ! Sponsored by the Friends of the Library-Potomac Chapter. &nbsp;\nhttps://
 folmc.org/events/celebrate-paddington/
URL:https://folmc.org/events/celebrate-paddington/
END:VEVENT
END:VCALENDAR