BEGIN:VCALENDAR
VERSION:2.0
PRODID:-//eventon.com NONSGML v1.0//EN
CALSCALE:GREGORIAN
METHOD:PUBLISH
BEGIN:VEVENT
UID:69e731f785df7
DTSTAMP:20260421T081447Z
DTSTART:20190921T180000Z
DTEND:20190921T190000Z
LOCATION:Davis Library 6400 Democracy Blvd\,  Bethesda\,  MD 20817
SUMMARY:Science Saturday -Uncovering Facts about Dinosaurs
DESCRIPTION:Join Science Connections to take a trip back in time! Discover 
 what scientists know about dinosaurs and how they learned it. Explore diffe
 rent types of fossils and predict what animals may have left them. For ages
  6 and up. STEM program. Please register online. Sponsored by Friends of th
 e Library\, [..]\nhttps://folmc.org/events/science-saturday-all-about-heart
 s/
URL:https://folmc.org/events/science-saturday-all-about-hearts/
END:VEVENT
END:VCALENDAR