BEGIN:VCALENDAR
VERSION:2.0
PRODID:-//eventon.com NONSGML v1.0//EN
CALSCALE:GREGORIAN
METHOD:PUBLISH
BEGIN:VEVENT
UID:69e5bc623597b
DTSTAMP:20260420T054050Z
DTSTART:20180807T200000Z
DTEND:20180807T210000Z
LOCATION:Connie Morella Library 7400 Arlington Rd\,  Bethesda\,  MD 20814
SUMMARY:Build and Learn with LEGO®
DESCRIPTION:Children ages 6 &#8211; 10 are invited to drop in for a session
  of imaginative construction with LEGO®. We supply the blocks\,  so please
  leave yours at home. Your creations must be left at the library\,  but may
  be photographed before deconstruction. All children must be accompanied by
  an adult[..]\nhttps://folmc.org/events/build-and-learn-with-lego-29/
URL:https://folmc.org/events/build-and-learn-with-lego-29/
END:VEVENT
END:VCALENDAR