BEGIN:VCALENDAR
VERSION:2.0
PRODID:-//eventon.com NONSGML v1.0//EN
CALSCALE:GREGORIAN
METHOD:PUBLISH
BEGIN:VEVENT
UID:69e662aed9920
DTSTAMP:20260420T173022Z
DTSTART:20180702T233000Z
DTEND:20180703T003000Z
LOCATION:
SUMMARY:Friends of the Library Adult Book Discussion
DESCRIPTION:This book discussion group meets the first Mondays of each mont
 h. July Selection:The House of Hawthorne\,  by: Erika Robuck Presents a fic
 tional recreation of the marriage of the American author Nathaniel Hawthorn
 e and his wife\,  Sophia Peabody\,  depicting their intense devotion to one
  another\,  his work as an acclaimed novelist\, [..]\nhttps://folmc.org/eve
 nts/friends-of-the-library-adult-book-discussion-3/
URL:https://folmc.org/events/friends-of-the-library-adult-book-discussion-3/
END:VEVENT
END:VCALENDAR