BEGIN:VCALENDAR
VERSION:2.0
PRODID:-//eventon.com NONSGML v1.0//EN
CALSCALE:GREGORIAN
METHOD:PUBLISH
BEGIN:VEVENT
UID:69e6dba62eec6
DTSTAMP:20260421T020630Z
DTSTART:20180425T200000Z
DTEND:20180425T213000Z
LOCATION:Little Falls Library 5501 Massachusetts Ave Bethesda\,  MD 20816
SUMMARY:Monthly Teen Board Game Program
DESCRIPTION:Play a board game with your friends at the Little Falls Library
 ! We have lots of classic games like Sorry and also new favorites like Expl
 oding Kittens. For ages 12-18. On the last Wednesday of the month. Sponsore
 d by Friends of the Library\,  Little Falls Chapter.\nhttps://folmc.org/eve
 nts/monthly-teen-board-game-program/
URL:https://folmc.org/events/monthly-teen-board-game-program/
END:VEVENT
END:VCALENDAR